BEGIN:VCALENDAR
PRODID:-//kirchenweb.ch gmbh//veranstaltungsausgabe v2.0//DE
VERSION:2.0
METHOD:PUBLISH
BEGIN:VEVENT
DTSTART:20260508T160000Z
DTEND:20260508T200000Z
LOCATION:Reformiertes Kirchgemeindehaus\, Schulstrasse 5\, 5012
  Schönenwerd
TRANSP:OPAQUE
SEQUENCE:0
UID:4763-veranstaltung@ref-niederamt.ch
DTSTAMP:20260402T073450Z
DESCRIPTION:Filmabend mit Genuss\n"Ein Dorf sieht schwarz"\n\nNähere
  Angaben siehe Flyer\n\nKontakt: Daniel Müller\n\nWeitere Infos:
  https://www.ref-niederamt.ch/veranstaltung/4763
SUMMARY:Seelenwärmer und Löffelglück in Schönenwerd
PRIORITY:5
X-MICROSOFT-CDO-IMPORTANCE:1
CLASS:PUBLIC
END:VEVENT
END:VCALENDAR
