BEGIN:VCALENDAR
PRODID:-//kirchenweb.ch gmbh//veranstaltungsausgabe v2.0//DE
VERSION:2.0
METHOD:PUBLISH
BEGIN:VEVENT
DTSTART:20260612T170000Z
DTEND:20260612T180000Z
LOCATION:Sigristenhaus\, \, 4654 Lostorf
TRANSP:OPAQUE
SEQUENCE:0
UID:4637-veranstaltung@ref-niederamt.ch
DTSTAMP:20260223T070209Z
DESCRIPTION:Offene ökumenische Gesprächsgruppe\, Gesprächsrunde zur
  Bibel\n\nSigfried Falkner\n\nKontakt: Roland Vogt\n\nWeitere Infos:
  https://www.ref-niederamt.ch/veranstaltung/4637
SUMMARY:Ökumenische Gesprächsgruppe in Lostorf
PRIORITY:5
X-MICROSOFT-CDO-IMPORTANCE:1
CLASS:PUBLIC
END:VEVENT
END:VCALENDAR
