BEGIN:VCALENDAR
PRODID:-//kirchenweb.ch gmbh//veranstaltungsausgabe v2.0//DE
VERSION:2.0
METHOD:PUBLISH
BEGIN:VEVENT
DTSTART:20261012T120000Z
DTEND:20261012T130000Z
LOCATION:Reformiertes Kirchgemeindehaus\, Rainstrasse 1\, 5013
  Niedergösgen
TRANSP:OPAQUE
SEQUENCE:0
UID:4452-veranstaltung@ref-niederamt.ch
DTSTAMP:20251125T144427Z
DESCRIPTION:Spielnachmittag\n\nKontakt: Elisabeth Müller\n\nWeitere
  Infos: https://www.ref-niederamt.ch/veranstaltung/4452
SUMMARY:Frauenverein in Niedergösgen
PRIORITY:5
X-MICROSOFT-CDO-IMPORTANCE:1
CLASS:PUBLIC
END:VEVENT
END:VCALENDAR
