BEGIN:VCALENDAR
PRODID:-//kirchenweb.ch gmbh//veranstaltungsausgabe v2.0//DE
VERSION:2.0
METHOD:PUBLISH
BEGIN:VEVENT
DTSTART:20260914T170000Z
DTEND:20260914T180000Z
LOCATION:Reformiertes Kirchgemeindehaus\, Rainstrasse 1\, 5013
  Niedergösgen
TRANSP:OPAQUE
SEQUENCE:0
UID:4451-veranstaltung@ref-niederamt.ch
DTSTAMP:20251125T144449Z
DESCRIPTION:Pizza-Plausch\n\nKontakt: Elisabeth Müller\n\nWeitere Infos:
  https://www.ref-niederamt.ch/veranstaltung/4451
SUMMARY:Frauenverein in Niedergösgen
PRIORITY:5
X-MICROSOFT-CDO-IMPORTANCE:1
CLASS:PUBLIC
END:VEVENT
END:VCALENDAR
