BEGIN:VCALENDAR
PRODID:-//kirchenweb.ch gmbh//veranstaltungsausgabe v2.0//DE
VERSION:2.0
METHOD:PUBLISH
BEGIN:VEVENT
DTSTART:20260708T063000Z
DTEND:20260708T073000Z
LOCATION:Reformiertes Kirchgemeindehaus\, Schulstrasse 5\, 5012
  Schönenwerd
TRANSP:OPAQUE
SEQUENCE:0
UID:4336-veranstaltung@ref-niederamt.ch
DTSTAMP:20251121T080401Z
DESCRIPTION:In Gesellschaft und gemütlicher Atmosphäre "zmörgele".\n
 \nKontakt: Irma Menzi\n\nWeitere Infos:
  https://www.ref-niederamt.ch/veranstaltung/4336
SUMMARY:Zmorgehock in Schönenwerd
PRIORITY:5
X-MICROSOFT-CDO-IMPORTANCE:1
CLASS:PUBLIC
END:VEVENT
END:VCALENDAR
