BEGIN:VCALENDAR
PRODID:-//kirchenweb.ch gmbh//veranstaltungsausgabe v2.0//DE
VERSION:2.0
METHOD:PUBLISH
BEGIN:VEVENT
DTSTART:20260617T180000Z
DTEND:20260617T190000Z
LOCATION:Reformiertes Kirchgemeindehaus\, Hauptstrasse 34\, 4655
  Stüsslingen
TRANSP:OPAQUE
SEQUENCE:0
UID:4320-veranstaltung@ref-niederamt.ch
DTSTAMP:20251120T074732Z
DESCRIPTION:Rechnungs-Kirchgemeindeversammlung\n\nKontakt: Therese
  Grütter\n\nWeitere Infos:
  https://www.ref-niederamt.ch/veranstaltung/4320
SUMMARY:Kirchgemeindeversammlung in Däniken
PRIORITY:5
X-MICROSOFT-CDO-IMPORTANCE:1
CLASS:PUBLIC
END:VEVENT
END:VCALENDAR
