BEGIN:VCALENDAR
PRODID:-//kirchenweb.ch gmbh//veranstaltungsausgabe v2.0//DE
VERSION:2.0
METHOD:PUBLISH
BEGIN:VEVENT
DTSTART:20260527T180000Z
DTEND:20260527T200000Z
LOCATION:Reformiertes Kirchgemeindehaus\, Schulstrasse 5\, 5012
  Schönenwerd
TRANSP:OPAQUE
SEQUENCE:0
UID:4315-veranstaltung@ref-niederamt.ch
DTSTAMP:20251120T074545Z
DESCRIPTION:Kontakt: Therese Grütter\n\nWeitere Infos:
  https://www.ref-niederamt.ch/veranstaltung/4315
SUMMARY:Sitzung Kirchgemeinderat in Schönenwerd
PRIORITY:5
X-MICROSOFT-CDO-IMPORTANCE:1
CLASS:PUBLIC
END:VEVENT
END:VCALENDAR
