BEGIN:VCALENDAR
PRODID:-//kirchenweb.ch gmbh//veranstaltungsausgabe v2.0//DE
VERSION:2.0
METHOD:PUBLISH
BEGIN:VEVENT
DTSTART:20260715T063000Z
DTEND:20260715T073000Z
LOCATION:Reformierte Kirche\, Eihübelstrasse 7\, 4654 Lostorf
TRANSP:OPAQUE
SEQUENCE:0
UID:4276-veranstaltung@ref-niederamt.ch
DTSTAMP:20251111T072948Z
DESCRIPTION:Wir freuen uns auf Ihren Besuch.\n\nKontakt: Maja Marrer\n
 \nWeitere Infos: https://www.ref-niederamt.ch/veranstaltung/4276
SUMMARY:Zmorgehock in Lostorf
PRIORITY:5
X-MICROSOFT-CDO-IMPORTANCE:1
CLASS:PUBLIC
END:VEVENT
END:VCALENDAR
