BEGIN:VCALENDAR
PRODID:-//kirchenweb.ch gmbh//veranstaltungsausgabe v2.0//DE
VERSION:2.0
METHOD:PUBLISH
BEGIN:VEVENT
DTSTART:20260619T150000Z
DTEND:20260619T160000Z
LOCATION:Reformiertes Kirchgemeindehaus\, Schulstrasse 5\, 5012
  Schönenwerd
TRANSP:OPAQUE
SEQUENCE:0
UID:4268-veranstaltung@ref-niederamt.ch
DTSTAMP:20251110T143156Z
DESCRIPTION:Wir treffen uns jeden Freitag von 17.00-18.00h im reformierten
  Kirchgemeindehaus an der \nSchulstrasse 5 in Schönenwerd\, ausser in den
  Schulferien.\nAlle Kinder ab Kindergartenalter sind herzlich willkommen. 
 \nZusammen erleben wir eine tolle Stunde. \nWir hören Geschichten\,
  basteln kreative Sachen\, machen lustige Spiele und haben eine Menge
  Spass. \nKomm doch einfach mal vorbei \nBei Fragen oder Anmeldung melde
  dich bitte bei \nJolanda Obrist 077 450 81 41 \nwir freuen uns\n
 \nKontakt: Jolanda Obrist\n\nWeitere Infos:
  https://www.ref-niederamt.ch/veranstaltung/4268
SUMMARY:Ökumenischer Kolibri-Treff in Schönenwerd
PRIORITY:5
X-MICROSOFT-CDO-IMPORTANCE:1
CLASS:PUBLIC
END:VEVENT
END:VCALENDAR
