BEGIN:VCALENDAR
PRODID:-//kirchenweb.ch gmbh//veranstaltungsausgabe v2.0//DE
VERSION:2.0
METHOD:PUBLISH
BEGIN:VEVENT
DTSTART:20260503T090000Z
DTEND:20260503T100000Z
LOCATION:Chuzebrünneli\, \,
TRANSP:OPAQUE
SEQUENCE:0
UID:4237-veranstaltung@ref-niederamt.ch
DTSTAMP:20260304T151819Z
DESCRIPTION:Gottesdienst am Chuzebrünneli\n\nWir treffen uns beim
  Schiessstand Zingg 10.30 Uhr und spazieren dann zusammen zum
  Chuzebrünneli.\nNach der Andacht geniessen wir gemeinsam das Mittagessen
  aus dem Rucksack. Feuerstelle vorhanden.\nFahrdienst: Therese Grütter
  076 497 83 52\n\nKontakt: Therese Grütter\n\nWeitere Infos:
  https://www.ref-niederamt.ch/veranstaltung/4237
SUMMARY:Andacht am Chuzebrünneli
PRIORITY:5
X-MICROSOFT-CDO-IMPORTANCE:1
CLASS:PUBLIC
END:VEVENT
END:VCALENDAR
