BEGIN:VCALENDAR
PRODID:-//kirchenweb.ch gmbh//veranstaltungsausgabe v2.0//DE
VERSION:2.0
METHOD:PUBLISH
BEGIN:VEVENT
DTSTART:20260607T081500Z
DTEND:20260607T091500Z
LOCATION:Reformierte Kirche\, Eicherstrasse 10\, 4658 Däniken
TRANSP:OPAQUE
SEQUENCE:0
UID:4224-veranstaltung@ref-niederamt.ch
DTSTAMP:20260304T150627Z
DESCRIPTION:Anschliessend herzliche Einladung zum Kirchenkaffee.\n
 \nKontakt: Therese Grütter\n\nWeitere Infos:
  https://www.ref-niederamt.ch/veranstaltung/4224
SUMMARY:Gottesdienst in Däniken
PRIORITY:5
X-MICROSOFT-CDO-IMPORTANCE:1
CLASS:PUBLIC
END:VEVENT
END:VCALENDAR
