BEGIN:VCALENDAR
PRODID:-//kirchenweb.ch gmbh//veranstaltungsausgabe v2.0//DE
VERSION:2.0
METHOD:PUBLISH
BEGIN:VEVENT
DTSTART:20260425T073000Z
DTEND:20260425T083000Z
LOCATION:Reformierte Kirche\, Eihübelstrasse 7\, 4654 Lostorf
TRANSP:OPAQUE
SEQUENCE:0
UID:4193-veranstaltung@ref-niederamt.ch
DTSTAMP:20251110T092545Z
DESCRIPTION:Wir werden Geschichten aus der Bibel\, der Natur und dem Leben
  lesen. Wir lernen diese zu verstehen\, in dem wir darüber sprechen\,
  basteln\, spielen und singen.\n\nKontakt: Monika Peier-Spring\, 079 694
  45 76\n\nWeitere Infos: https://www.ref-niederamt.ch/veranstaltung/4193
SUMMARY:KiK (Kinder in der Kirche) in Lostorf
PRIORITY:5
X-MICROSOFT-CDO-IMPORTANCE:1
CLASS:PUBLIC
END:VEVENT
END:VCALENDAR
