BEGIN:VCALENDAR
PRODID:-//kirchenweb.ch gmbh//veranstaltungsausgabe v2.0//DE
VERSION:2.0
METHOD:PUBLISH
BEGIN:VEVENT
DTSTART:20260603T063000Z
DTEND:20260603T073000Z
LOCATION:Reformiertes Kirchgemeindehaus\, Rainstrasse 1\, 5013
  Niedergösgen
TRANSP:OPAQUE
SEQUENCE:0
UID:4182-veranstaltung@ref-niederamt.ch
DTSTAMP:20251110T090023Z
DESCRIPTION:Wir freuen uns auf Ihren Besuch!\n\nKontakt: Elisabeth Müller
 \n\nWeitere Infos: https://www.ref-niederamt.ch/veranstaltung/4182
SUMMARY:Zmorgehock in Niedergösgen
PRIORITY:5
X-MICROSOFT-CDO-IMPORTANCE:1
CLASS:PUBLIC
END:VEVENT
END:VCALENDAR
