BEGIN:VCALENDAR
PRODID:-//kirchenweb.ch gmbh//veranstaltungsausgabe v2.0//DE
VERSION:2.0
METHOD:PUBLISH
BEGIN:VEVENT
DTSTART:20260806T100000Z
DTEND:20260806T110000Z
LOCATION:Katholische Kirche\, Josefstrasse 3\, 4658 Däniken
TRANSP:OPAQUE
SEQUENCE:0
UID:4168-veranstaltung@ref-niederamt.ch
DTSTAMP:20251106T101245Z
DESCRIPTION:Der Mittagstisch für Seniorinnen und Senioren findet einmal
  pro Monat im reformierten Kirchensaal oder im katholischen Pfarrsaal
  statt. Neue Gäste sind stets herzlich willkommen.\nNeuanmeldungen werden
  bis am Montagabend vor dem Essen entgegen genommen.\n\nAnmeldung und
  Fahrdienst:\nYvonne Strässle\n062 291 22 68\n\nKontakt: Yvonne Strässle
  062 291 22 68\n\nWeitere Infos:
  https://www.ref-niederamt.ch/veranstaltung/4168
SUMMARY:Senioren-Mittagessen in Däniken
PRIORITY:5
X-MICROSOFT-CDO-IMPORTANCE:1
CLASS:PUBLIC
END:VEVENT
END:VCALENDAR
