BEGIN:VCALENDAR
PRODID:-//kirchenweb.ch gmbh//veranstaltungsausgabe v2.0//DE
VERSION:2.0
METHOD:PUBLISH
BEGIN:VEVENT
DTSTART:20260430T093000Z
DTEND:20260430T103000Z
LOCATION:Restaurant Jurablick\, Köllikerstrasse 28\, 5014 Gretzenbach
TRANSP:OPAQUE
SEQUENCE:0
UID:4157-veranstaltung@ref-niederamt.ch
DTSTAMP:20251106T095746Z
DESCRIPTION:Kontakt: Vreni von Arx\n\nWeitere Infos:
  https://www.ref-niederamt.ch/veranstaltung/4157
SUMMARY:Senioren-Mittagstisch in Gretzenbach
PRIORITY:5
X-MICROSOFT-CDO-IMPORTANCE:1
CLASS:PUBLIC
END:VEVENT
END:VCALENDAR
