BEGIN:VCALENDAR
PRODID:-//kirchenweb.ch gmbh//veranstaltungsausgabe v2.0//DE
VERSION:2.0
METHOD:PUBLISH
BEGIN:VEVENT
DTSTART:20261020T113000Z
DTEND:20261020T123000Z
LOCATION:Römersaal\, Kirchweg 9\, 5014 Gretzenbach
TRANSP:OPAQUE
SEQUENCE:0
UID:4151-veranstaltung@ref-niederamt.ch
DTSTAMP:20251106T095354Z
DESCRIPTION:Jass-Plausch\n\nKontakt: Ursula Schenker\n\nWeitere Infos:
  https://www.ref-niederamt.ch/veranstaltung/4151
SUMMARY:Senioren in Gretzenbach
PRIORITY:5
X-MICROSOFT-CDO-IMPORTANCE:1
CLASS:PUBLIC
END:VEVENT
END:VCALENDAR
