BEGIN:VCALENDAR
PRODID:-//kirchenweb.ch gmbh//veranstaltungsausgabe v2.0//DE
VERSION:2.0
METHOD:PUBLISH
BEGIN:VEVENT
DTSTART:20261015T120000Z
DTEND:20261015T130000Z
LOCATION:Römersaal\, Kirchweg 9\, 5014 Gretzenbach
TRANSP:OPAQUE
SEQUENCE:0
UID:4150-veranstaltung@ref-niederamt.ch
DTSTAMP:20251106T095326Z
DESCRIPTION:Tanznachmittag\n\nKontakt: Nicole Lambele\n\nWeitere Infos:
  https://www.ref-niederamt.ch/veranstaltung/4150
SUMMARY:Senioren in Gretzenbach
PRIORITY:5
X-MICROSOFT-CDO-IMPORTANCE:1
CLASS:PUBLIC
END:VEVENT
END:VCALENDAR
