BEGIN:VCALENDAR
PRODID:-//kirchenweb.ch gmbh//veranstaltungsausgabe v2.0//DE
VERSION:2.0
METHOD:PUBLISH
BEGIN:VEVENT
DTSTART:20260708T150000Z
DTEND:20260708T160000Z
LOCATION:Römersaal\, Kirchweg 9\, 5014 Gretzenbach
TRANSP:OPAQUE
SEQUENCE:0
UID:4149-veranstaltung@ref-niederamt.ch
DTSTAMP:20251106T095258Z
DESCRIPTION:Gemütliches Beisammen-Brötle\n\nKontakt: Ursula Schenker\n
 \nWeitere Infos: https://www.ref-niederamt.ch/veranstaltung/4149
SUMMARY:Senioren in Gretzenbach
PRIORITY:5
X-MICROSOFT-CDO-IMPORTANCE:1
CLASS:PUBLIC
END:VEVENT
END:VCALENDAR
