BEGIN:VCALENDAR
PRODID:-//kirchenweb.ch gmbh//veranstaltungsausgabe v2.0//DE
VERSION:2.0
METHOD:PUBLISH
BEGIN:VEVENT
DTSTART:20260507T080000Z
DTEND:20260507T090000Z
LOCATION:OASE Obergösgen\, Lostorferstrasse 1\, 4653 Obergösgen
TRANSP:OPAQUE
SEQUENCE:0
UID:4127-veranstaltung@ref-niederamt.ch
DTSTAMP:20251118T133444Z
DESCRIPTION:Wir feiern die öffentlichen Gottesdienste in der Oase in
  Obergösgen sinnlich. Wir hören einen Abschnitt aus der Bibel\,
  riechen\, sehen\, spüren die Nähe und Güte Gottes in unserem Leben.
  Danach sind alle eingeladen zu einem Kafi und gemeinsamen Plaudern und
  Austauschen.\n\nKontakt: Stefan Wagner\n\nWeitere Infos:
  https://www.ref-niederamt.ch/veranstaltung/4127
SUMMARY:Gottesdienst in Obergösgen
PRIORITY:5
X-MICROSOFT-CDO-IMPORTANCE:1
CLASS:PUBLIC
END:VEVENT
END:VCALENDAR
