BEGIN:VCALENDAR
PRODID:-//kirchenweb.ch gmbh//veranstaltungsausgabe v2.0//DE
VERSION:2.0
METHOD:PUBLISH
BEGIN:VEVENT
DTSTART:20261025T090000Z
DTEND:20261025T100000Z
LOCATION:Reformierte Kirche\, Eihübelstrasse 7\, 4654 Lostorf
TRANSP:OPAQUE
SEQUENCE:0
UID:4116-veranstaltung@ref-niederamt.ch
DTSTAMP:20251118T134219Z
DESCRIPTION:Danke für deine Gaben\nAnschliessend sind alle zur
  Kürbissuppe eingeladen.\n\nKontakt: Stefan Wagner\n\nWeitere Infos:
  https://www.ref-niederamt.ch/veranstaltung/4116
SUMMARY:Symbol-Erntedankgottesdienst in Lostorf
PRIORITY:5
X-MICROSOFT-CDO-IMPORTANCE:1
CLASS:PUBLIC
END:VEVENT
END:VCALENDAR
