BEGIN:VCALENDAR
PRODID:-//kirchenweb.ch gmbh//veranstaltungsausgabe v2.0//DE
VERSION:2.0
METHOD:PUBLISH
BEGIN:VEVENT
DTSTART:20260830T080000Z
DTEND:20260830T090000Z
LOCATION:Reformierte Kirche\, Eihübelstrasse 7\, 4654 Lostorf
TRANSP:OPAQUE
SEQUENCE:0
UID:4111-veranstaltung@ref-niederamt.ch
DTSTAMP:20251118T134025Z
DESCRIPTION:Kontakt: Stefan Wagner\n\nWeitere Infos:
  https://www.ref-niederamt.ch/veranstaltung/4111
SUMMARY:Gottesdienst in Lostorf
PRIORITY:5
X-MICROSOFT-CDO-IMPORTANCE:1
CLASS:PUBLIC
END:VEVENT
END:VCALENDAR
