BEGIN:VCALENDAR
PRODID:-//kirchenweb.ch gmbh//veranstaltungsausgabe v2.0//DE
VERSION:2.0
METHOD:PUBLISH
BEGIN:VEVENT
DTSTART:20260607T090000Z
DTEND:20260607T100000Z
LOCATION:Reformierte Kirche\, Eihübelstrasse 7\, 4654 Lostorf
TRANSP:OPAQUE
SEQUENCE:0
UID:4095-veranstaltung@ref-niederamt.ch
DTSTAMP:20260407T133916Z
DESCRIPTION:Symbole für dein Leben.\nWir spüren den Symbolen des
  Lebens\, der Welt\, der Christenheit nach. Die Predigt orientiert sich am
  jeweiligen Symbol und lädt zum Nachdenken ein. Nachdenken über das
  Leben\, über das Symbol\, über die eigene Beziehung zum Symbol.
 \nAnschliessend sind alle herzlich zum Brunch eingeladen.\n\nKontakt:
  Stefan Wagner\n\nWeitere Infos:
  https://www.ref-niederamt.ch/veranstaltung/4095
SUMMARY:Ökum. Symbol-Brunch-Gottesdienst in Lostorf
PRIORITY:5
X-MICROSOFT-CDO-IMPORTANCE:1
CLASS:PUBLIC
END:VEVENT
END:VCALENDAR
