BEGIN:VCALENDAR
PRODID:-//kirchenweb.ch gmbh//veranstaltungsausgabe v2.0//DE
VERSION:2.0
METHOD:PUBLISH
BEGIN:VEVENT
DTSTART:20260920T073000Z
DTEND:20260920T083000Z
LOCATION:Kath. Kirche\, \, 4653 Obergösgen
TRANSP:OPAQUE
SEQUENCE:0
UID:4079-veranstaltung@ref-niederamt.ch
DTSTAMP:20251118T134109Z
DESCRIPTION:Ökumenischer Dank-\, Buss- und Bettag mit Begleitung der
  Musikgesellschaft Obergösgen\n\nKontakt: Stefan Wagner\n\nWeitere Infos:
  https://www.ref-niederamt.ch/veranstaltung/4079
SUMMARY:Ökumenischer Dank-\, Buss- und Bettag in Obergösgen
PRIORITY:5
X-MICROSOFT-CDO-IMPORTANCE:1
CLASS:PUBLIC
END:VEVENT
END:VCALENDAR
