BEGIN:VCALENDAR
PRODID:-//kirchenweb.ch gmbh//veranstaltungsausgabe v2.0//DE
VERSION:2.0
METHOD:PUBLISH
BEGIN:VEVENT
DTSTART:20260920T090000Z
DTEND:20260920T100000Z
LOCATION:Reformierte Kirche\, Eihübelstrasse 7\, 4654 Lostorf
TRANSP:OPAQUE
SEQUENCE:0
UID:4078-veranstaltung@ref-niederamt.ch
DTSTAMP:20251118T134117Z
DESCRIPTION:Ökumenischer Dank-\, Buss- und Bettag in Begleitung des Kath.
  Kirchenchors mit anschliessendem Mittagessen. Es sind alle herzlich
  Eingeladen.\n\nKontakt: Stefan Wagner\n\nWeitere Infos:
  https://www.ref-niederamt.ch/veranstaltung/4078
SUMMARY:Ökumenischer Dank-\, Buss- und Bettag in Lostorf
PRIORITY:5
X-MICROSOFT-CDO-IMPORTANCE:1
CLASS:PUBLIC
END:VEVENT
END:VCALENDAR
