BEGIN:VCALENDAR
PRODID:-//kirchenweb.ch gmbh//veranstaltungsausgabe v2.0//DE
VERSION:2.0
METHOD:PUBLISH
BEGIN:VEVENT
DTSTART:20261015T113000Z
DTEND:20261015T150000Z
LOCATION:Reformiertes Kirchgemeindehaus\, Hardmattstrasse 14\, 4653
  Obergösgen
TRANSP:OPAQUE
SEQUENCE:0
UID:4073-veranstaltung@ref-niederamt.ch
DTSTAMP:20251110T140306Z
DESCRIPTION:Spielnachmittag\n\nKontakt: Theuerzeit Jean Albert\, Tel. 076
  831 60 02\n\nWeitere Infos:
  https://www.ref-niederamt.ch/veranstaltung/4073
SUMMARY:Seniorengruppe in Obergösgen
PRIORITY:5
X-MICROSOFT-CDO-IMPORTANCE:1
CLASS:PUBLIC
END:VEVENT
END:VCALENDAR
