BEGIN:VCALENDAR
PRODID:-//kirchenweb.ch gmbh//veranstaltungsausgabe v2.0//DE
VERSION:2.0
METHOD:PUBLISH
BEGIN:VEVENT
DTSTART:20260903T163000Z
DTEND:20260903T173000Z
LOCATION:Taufkapelle der Pfarrkirche Stüsslingen\, \, 4655 Stüsslingen
TRANSP:OPAQUE
SEQUENCE:0
UID:4029-veranstaltung@ref-niederamt.ch
DTSTAMP:20250909T143629Z
DESCRIPTION:Achtsamkeitsübung mit Anleitung zur Stille-Meditation\n
 \nInteressierte sind eingeladen\, einen alten christlichen Meditationsweg
  neu zu entdecken. Jeweils am 3. Tag im Monat wird neu in der Taufkapelle
  der Pfarrkirche Stüsslingen eine Achtsamkeitsübung mit einer
  angeleiteten Stille-Meditation angeboten. Das Angebot ist offen für
  alle\, für solche\, die gerne einmal ‘schnuppern’\, wie auch für
  jene\, die bereits Übung mitbringen.\n\nWir orientieren uns am Buch
  ‘Praxis des Herzensgebets’ von Andreas Ebert (Jesuitenpater) und
  Peter Musto (evangelischer Theologe)\, das wir zur Lektüre sehr
  empfehlen.\n\nHerzlich laden ein:\nAnna-Marie Fürst\, Andrea-Maria
  Inauen\, katholische Seelsorgerinnen und Stefan Wagner\, reformierter
  Pfarrer\n\nKontakt: Evelyne Spielmann\n\nWeitere Infos:
  https://www.ref-niederamt.ch/veranstaltung/4029
SUMMARY:Zur inneren Quelle finden in Stüsslingen
PRIORITY:5
X-MICROSOFT-CDO-IMPORTANCE:1
CLASS:PUBLIC
END:VEVENT
END:VCALENDAR
